BEGIN:VCALENDAR
VERSION:2.0
PRODID:-//Dyne Solicitors Specialists in Regulatory Law and Advocacy, Health &amp; Safety, Road Haulage, Environmental, Waste, Water Pollution, Planning &amp; Highways - ECPv5.1.6//NONSGML v1.0//EN
CALSCALE:GREGORIAN
METHOD:PUBLISH
X-WR-CALNAME:Dyne Solicitors Specialists in Regulatory Law and Advocacy, Health &amp; Safety, Road Haulage, Environmental, Waste, Water Pollution, Planning &amp; Highways
X-ORIGINAL-URL:https://www.dynesolicitors.co.uk
X-WR-CALDESC:Events for Dyne Solicitors Specialists in Regulatory Law and Advocacy, Health &amp; Safety, Road Haulage, Environmental, Waste, Water Pollution, Planning &amp; Highways
BEGIN:VTIMEZONE
TZID:UTC
BEGIN:STANDARD
TZOFFSETFROM:+0000
TZOFFSETTO:+0000
TZNAME:UTC
DTSTART:20170101T000000
END:STANDARD
END:VTIMEZONE
BEGIN:VEVENT
DTSTART;TZID=UTC:20170921T090000
DTEND;TZID=UTC:20170921T130000
DTSTAMP:20260421T084541
CREATED:20180305T103600Z
LAST-MODIFIED:20180305T103600Z
UID:440-1505984400-1505998800@www.dynesolicitors.co.uk
SUMMARY:Waste Law Seminar
DESCRIPTION:Dyne Solicitors has developed a seminar based upon industry intelligence and an examination of the behaviour of the Environment Agency when regulating Waste Management companies. We have joined the dots so we can explain to you what is really going on. We have identified that the Environment Agency (EA) is targeting specific Environmental Permit holders and there is a well trodden path of behaviour leading to very serious consequences for those operators. \nOur research has identified 7 key indicators of Environment Agency action that precede prosecution or revocation of an Environmental Permit. We have put together a seminar that will help you to identify each of those 7 steps and what to do at each point to protect yourself\, your business assets and your reputation
URL:https://www.dynesolicitors.co.uk/event/waste-law-seminar/
LOCATION:The Halliwell Jones Stadium\, The Halliwell Jones Stadium\, Mike Gregory Way\, WA2 7NE
ORGANIZER;CN="Dyne%20Solicitors":MAILTO:info@dynesolicitors.co.uk
END:VEVENT
END:VCALENDAR