BEGIN:VCALENDAR
VERSION:2.0
PRODID:-//Dyne Solicitors Specialists in Regulatory Law and Advocacy, Health &amp; Safety, Road Haulage, Environmental, Waste, Water Pollution, Planning &amp; Highways - ECPv5.1.6//NONSGML v1.0//EN
CALSCALE:GREGORIAN
METHOD:PUBLISH
X-WR-CALNAME:Dyne Solicitors Specialists in Regulatory Law and Advocacy, Health &amp; Safety, Road Haulage, Environmental, Waste, Water Pollution, Planning &amp; Highways
X-ORIGINAL-URL:https://www.dynesolicitors.co.uk
X-WR-CALDESC:Events for Dyne Solicitors Specialists in Regulatory Law and Advocacy, Health &amp; Safety, Road Haulage, Environmental, Waste, Water Pollution, Planning &amp; Highways
BEGIN:VTIMEZONE
TZID:UTC
BEGIN:STANDARD
TZOFFSETFROM:+0000
TZOFFSETTO:+0000
TZNAME:UTC
DTSTART:20220101T000000
END:STANDARD
END:VTIMEZONE
BEGIN:VEVENT
DTSTART;VALUE=DATE:20221207
DTEND;VALUE=DATE:20221208
DTSTAMP:20260419T185125
CREATED:20221019T084532Z
LAST-MODIFIED:20221019T090448Z
UID:1771-1670371200-1670457599@www.dynesolicitors.co.uk
SUMMARY:The Wood Recyclers’ Association
DESCRIPTION:The Wood Recyclers’ Association Members Meeting Wednesday 7th December at the Holiday inn\, Telford.
URL:https://www.dynesolicitors.co.uk/event/the-wood-recyclers-association/
LOCATION:Holiday Inn\, Telford\, Telford International Centre\, Telford\, TF3 4EH\, United Kingdom
END:VEVENT
END:VCALENDAR