BEGIN:VCALENDAR
VERSION:2.0
PRODID:-//Dyne Solicitors Specialists in Regulatory Law and Advocacy, Health &amp; Safety, Road Haulage, Environmental, Waste, Water Pollution, Planning &amp; Highways - ECPv5.1.6//NONSGML v1.0//EN
CALSCALE:GREGORIAN
METHOD:PUBLISH
X-WR-CALNAME:Dyne Solicitors Specialists in Regulatory Law and Advocacy, Health &amp; Safety, Road Haulage, Environmental, Waste, Water Pollution, Planning &amp; Highways
X-ORIGINAL-URL:https://www.dynesolicitors.co.uk
X-WR-CALDESC:Events for Dyne Solicitors Specialists in Regulatory Law and Advocacy, Health &amp; Safety, Road Haulage, Environmental, Waste, Water Pollution, Planning &amp; Highways
BEGIN:VTIMEZONE
TZID:UTC
BEGIN:STANDARD
TZOFFSETFROM:+0000
TZOFFSETTO:+0000
TZNAME:UTC
DTSTART:20220101T000000
END:STANDARD
END:VTIMEZONE
BEGIN:VEVENT
DTSTART;VALUE=DATE:20221206
DTEND;VALUE=DATE:20221207
DTSTAMP:20260419T185509
CREATED:20221019T082611Z
LAST-MODIFIED:20221019T090443Z
UID:1768-1670284800-1670371199@www.dynesolicitors.co.uk
SUMMARY:The Recycling Association
DESCRIPTION:Annual Christmas Networking Lunch at The Institute of Directors on Pall Mall in London on Tuesday 6th December.
URL:https://www.dynesolicitors.co.uk/event/the-recycling-association/
LOCATION:Pall Mall in London\, 116 Pall Mall\, 116 Pall Mall\, St. James's\, London\, SW1Y 5ED\, United Kingdom
END:VEVENT
END:VCALENDAR